BEGIN:VCALENDAR
VERSION:2.0
PRODID:-//Harvest Community Garden | Carrollton, TX - ECPv6.7.0//NONSGML v1.0//EN
CALSCALE:GREGORIAN
METHOD:PUBLISH
X-ORIGINAL-URL:https://harvestcommunitygarden.org
X-WR-CALDESC:Events for Harvest Community Garden | Carrollton, TX
REFRESH-INTERVAL;VALUE=DURATION:PT1H
X-Robots-Tag:noindex
X-PUBLISHED-TTL:PT1H
BEGIN:VTIMEZONE
TZID:America/Chicago
BEGIN:DAYLIGHT
TZOFFSETFROM:-0600
TZOFFSETTO:-0500
TZNAME:CDT
DTSTART:20260308T080000
END:DAYLIGHT
BEGIN:STANDARD
TZOFFSETFROM:-0500
TZOFFSETTO:-0600
TZNAME:CST
DTSTART:20261101T070000
END:STANDARD
END:VTIMEZONE
BEGIN:VEVENT
DTSTART;TZID=America/Chicago:20260418T163000
DTEND;TZID=America/Chicago:20260418T183000
DTSTAMP:20260420T131754
CREATED:20260411T185818Z
LAST-MODIFIED:20260411T191332Z
UID:691-1776529800-1776537000@harvestcommunitygarden.org
SUMMARY:Seeds of Community
DESCRIPTION:Seeds of Community: A Harvest Community Garden Social \nHarvest Community Garden’s gardeners and significant others are invited to a come-and-go social! \n\nGet to know each other\nPick up some seeds and transplants\nGrab some apps and drinks\n\nPlease RSVP with Stan Basnett: sbasnettt@verizon.net 972-561-0269
URL:https://harvestcommunitygarden.org/event/seeds-of-community/
END:VEVENT
END:VCALENDAR