BEGIN:VCALENDAR
VERSION:2.0
PRODID:-//Harvest Community Garden | Carrollton, TX - ECPv6.7.0//NONSGML v1.0//EN
CALSCALE:GREGORIAN
METHOD:PUBLISH
X-ORIGINAL-URL:https://harvestcommunitygarden.org
X-WR-CALDESC:Events for Harvest Community Garden | Carrollton, TX
REFRESH-INTERVAL;VALUE=DURATION:PT1H
X-Robots-Tag:noindex
X-PUBLISHED-TTL:PT1H
BEGIN:VTIMEZONE
TZID:America/Chicago
BEGIN:DAYLIGHT
TZOFFSETFROM:-0600
TZOFFSETTO:-0500
TZNAME:CDT
DTSTART:20170312T080000
END:DAYLIGHT
BEGIN:STANDARD
TZOFFSETFROM:-0500
TZOFFSETTO:-0600
TZNAME:CST
DTSTART:20171105T070000
END:STANDARD
BEGIN:DAYLIGHT
TZOFFSETFROM:-0600
TZOFFSETTO:-0500
TZNAME:CDT
DTSTART:20180311T080000
END:DAYLIGHT
BEGIN:STANDARD
TZOFFSETFROM:-0500
TZOFFSETTO:-0600
TZNAME:CST
DTSTART:20181104T070000
END:STANDARD
BEGIN:DAYLIGHT
TZOFFSETFROM:-0600
TZOFFSETTO:-0500
TZNAME:CDT
DTSTART:20190310T080000
END:DAYLIGHT
BEGIN:STANDARD
TZOFFSETFROM:-0500
TZOFFSETTO:-0600
TZNAME:CST
DTSTART:20191103T070000
END:STANDARD
BEGIN:DAYLIGHT
TZOFFSETFROM:-0600
TZOFFSETTO:-0500
TZNAME:CDT
DTSTART:20200308T080000
END:DAYLIGHT
BEGIN:STANDARD
TZOFFSETFROM:-0500
TZOFFSETTO:-0600
TZNAME:CST
DTSTART:20201101T070000
END:STANDARD
BEGIN:DAYLIGHT
TZOFFSETFROM:-0600
TZOFFSETTO:-0500
TZNAME:CDT
DTSTART:20210314T080000
END:DAYLIGHT
BEGIN:STANDARD
TZOFFSETFROM:-0500
TZOFFSETTO:-0600
TZNAME:CST
DTSTART:20211107T070000
END:STANDARD
BEGIN:DAYLIGHT
TZOFFSETFROM:-0600
TZOFFSETTO:-0500
TZNAME:CDT
DTSTART:20220313T080000
END:DAYLIGHT
BEGIN:STANDARD
TZOFFSETFROM:-0500
TZOFFSETTO:-0600
TZNAME:CST
DTSTART:20221106T070000
END:STANDARD
END:VTIMEZONE
BEGIN:VEVENT
DTSTART;TZID=America/Chicago:20220827T080000
DTEND;TZID=America/Chicago:20220827T090000
DTSTAMP:20260420T144850
CREATED:20220803T153826Z
LAST-MODIFIED:20220803T153826Z
UID:579-1661587200-1661590800@harvestcommunitygarden.org
SUMMARY:Harvest Time
DESCRIPTION:Join us for our weekly harvest at 8 a.m. on Saturdays!
URL:https://harvestcommunitygarden.org/event/harvest-time-2-2022-08-27/
END:VEVENT
BEGIN:VEVENT
DTSTART;TZID=America/Chicago:20220820T080000
DTEND;TZID=America/Chicago:20220820T090000
DTSTAMP:20260420T144850
CREATED:20220803T153826Z
LAST-MODIFIED:20220803T153826Z
UID:578-1660982400-1660986000@harvestcommunitygarden.org
SUMMARY:Harvest Time
DESCRIPTION:Join us for our weekly harvest at 8 a.m. on Saturdays!
URL:https://harvestcommunitygarden.org/event/harvest-time-2-2022-08-20/
END:VEVENT
BEGIN:VEVENT
DTSTART;TZID=America/Chicago:20220813T080000
DTEND;TZID=America/Chicago:20220813T090000
DTSTAMP:20260420T144850
CREATED:20220803T153826Z
LAST-MODIFIED:20220803T153826Z
UID:577-1660377600-1660381200@harvestcommunitygarden.org
SUMMARY:Harvest Time
DESCRIPTION:Join us for our weekly harvest at 8 a.m. on Saturdays!
URL:https://harvestcommunitygarden.org/event/harvest-time-2-2022-08-13/
END:VEVENT
BEGIN:VEVENT
DTSTART;TZID=America/Chicago:20220806T080000
DTEND;TZID=America/Chicago:20220806T090000
DTSTAMP:20260420T144850
CREATED:20220803T153826Z
LAST-MODIFIED:20220803T153826Z
UID:576-1659772800-1659776400@harvestcommunitygarden.org
SUMMARY:Harvest Time
DESCRIPTION:Join us for our weekly harvest at 8 a.m. on Saturdays!
URL:https://harvestcommunitygarden.org/event/harvest-time-2/
END:VEVENT
BEGIN:VEVENT
DTSTART;TZID=America/Chicago:20220804T080000
DTEND;TZID=America/Chicago:20220804T170000
DTSTAMP:20260420T144850
CREATED:20220804T181339Z
LAST-MODIFIED:20220804T182926Z
UID:586-1659600000-1659632400@harvestcommunitygarden.org
SUMMARY:Owl Awareness Day
DESCRIPTION:We are hoping to get a family of Eastern Screech Owls this winter! Screech owls eat cicadas\, June bugs\, and small rodents. (They are too small to eat cats or dogs.) They mate for life\, though they will take a second mate if their first one dies. \nA big thank you to Bill Gibson for making and installing our owl box!
URL:https://harvestcommunitygarden.org/event/owl-awareness-day/
END:VEVENT
BEGIN:VEVENT
DTSTART;TZID=America/Chicago:20220115T090000
DTEND;TZID=America/Chicago:20220115T100000
DTSTAMP:20260420T144850
CREATED:20211227T232518Z
LAST-MODIFIED:20211227T232604Z
UID:562-1642237200-1642240800@harvestcommunitygarden.org
SUMMARY:2022 Annual Gardener Meeting & Open House
DESCRIPTION:Join us Saturday\, January15th at 9:00 a.m. \nOur Annual Gardener Meeting is for both new and returning gardeners. \nJoin us in Redeemer’s sanctuary to learn about the garden\, sign up to adopt a plot for the year\, and meet some great people. \nContact Stan at grow@harvestcommunitygarden.org for more information.
URL:https://harvestcommunitygarden.org/event/2022-annual-gardener-meeting-open-house/
LOCATION:Redeemer Covenant Church\, 1518 E. Frankford Road\, Carrollton\, TX\, 75007\, United States
END:VEVENT
BEGIN:VEVENT
DTSTART;TZID=America/Chicago:20220115T080000
DTEND;TZID=America/Chicago:20220115T090000
DTSTAMP:20260420T144850
CREATED:20210117T160122Z
LAST-MODIFIED:20210831T172033Z
UID:554-1642233600-1642237200@harvestcommunitygarden.org
SUMMARY:Saturday Morning Harvests
DESCRIPTION:Join us Saturday mornings for our harvests. \nEveryone is welcome. \nLearn about the garden\, meet some of the gardeners\, or volunteer to help.
URL:https://harvestcommunitygarden.org/event/saturday-morning-harvests-2022-01-15/
END:VEVENT
BEGIN:VEVENT
DTSTART;TZID=America/Chicago:20220108T080000
DTEND;TZID=America/Chicago:20220108T090000
DTSTAMP:20260420T144850
CREATED:20210117T160122Z
LAST-MODIFIED:20210831T172033Z
UID:553-1641628800-1641632400@harvestcommunitygarden.org
SUMMARY:Saturday Morning Harvests
DESCRIPTION:Join us Saturday mornings for our harvests. \nEveryone is welcome. \nLearn about the garden\, meet some of the gardeners\, or volunteer to help.
URL:https://harvestcommunitygarden.org/event/saturday-morning-harvests-2022-01-08/
END:VEVENT
BEGIN:VEVENT
DTSTART;TZID=America/Chicago:20220101T080000
DTEND;TZID=America/Chicago:20220101T090000
DTSTAMP:20260420T144850
CREATED:20210117T160122Z
LAST-MODIFIED:20210831T172033Z
UID:552-1641024000-1641027600@harvestcommunitygarden.org
SUMMARY:Saturday Morning Harvests
DESCRIPTION:Join us Saturday mornings for our harvests. \nEveryone is welcome. \nLearn about the garden\, meet some of the gardeners\, or volunteer to help.
URL:https://harvestcommunitygarden.org/event/saturday-morning-harvests-2022-01-01/
END:VEVENT
BEGIN:VEVENT
DTSTART;VALUE=DATE:20220101
DTEND;VALUE=DATE:20220102
DTSTAMP:20260420T144850
CREATED:20171127T193818Z
LAST-MODIFIED:20220803T153434Z
UID:336-1640995200-1641081599@harvestcommunitygarden.org
SUMMARY:Happy New Year
DESCRIPTION:Join us for Harvest Time every Saturday at 8:00 a.m.
URL:https://harvestcommunitygarden.org/event/happy-new-year-2022-01-01/
END:VEVENT
BEGIN:VEVENT
DTSTART;TZID=America/Chicago:20210903T080000
DTEND;TZID=America/Chicago:20210903T090000
DTSTAMP:20260420T144850
CREATED:20210831T171534Z
LAST-MODIFIED:20210831T173511Z
UID:555-1630656000-1630659600@harvestcommunitygarden.org
SUMMARY:Special Friday Harvest (Holiday Schedule)
DESCRIPTION:We will do our harvest a day early this weekend\, because the local food pantries are closed Saturday for the national holiday. \nJoin us at 8 a.m. if you can help with this specially scheduled harvest!
URL:https://harvestcommunitygarden.org/event/special-friday-harvest-holiday-schedule/
ATTACH;FMTTYPE=image/jpeg:https://harvestcommunitygarden.org/wp-content/uploads/2020/12/HCG-harvest-300.jpg
END:VEVENT
BEGIN:VEVENT
DTSTART;TZID=America/Chicago:20210410T090000
DTEND;TZID=America/Chicago:20210410T093000
DTSTAMP:20260420T144850
CREATED:20210404T023302Z
LAST-MODIFIED:20210404T023350Z
UID:497-1618045200-1618047000@harvestcommunitygarden.org
SUMMARY:Mosaic Sign Meeting
DESCRIPTION:All Harvest Community Gardeners are invited to join us at the garden at 9:00 a.m. to learn about the mosaic sign we are making for the garden.  Karen Gilboux will show us the design and teach us how to make a mosaic leaf to go on the sign. \nGardeners will make the mosaic leaf at home with materials provided.  We will collect the finished leaves in the shed so that Karen can use them to make our sign. \nWe are very excited about this project and so grateful to Karen for the donation of materials and time!
URL:https://harvestcommunitygarden.org/event/mosaic-sign-meeting-2/
END:VEVENT
BEGIN:VEVENT
DTSTART;TZID=America/Chicago:20210403T090000
DTEND;TZID=America/Chicago:20210403T093000
DTSTAMP:20260420T144850
CREATED:20210404T022548Z
LAST-MODIFIED:20210404T022548Z
UID:495-1617440400-1617442200@harvestcommunitygarden.org
SUMMARY:Mosaic Sign Meeting
DESCRIPTION:All Harvest Community Gardeners are invited to join us at the garden at 9:00 a.m. to learn about the mosaic sign we are making for the garden.  Karen Gilboux will show us the design and teach us how to make a mosaic leaf to go on the sign. \nGardeners will make the mosaic leaf at home with materials provided.  We will collect the finished leaves in the shed so that Karen can use them to make our sign. \nWe are very excited about this project and so grateful to Karen for the donation of materials and time!
URL:https://harvestcommunitygarden.org/event/mosaic-sign-meeting/
END:VEVENT
BEGIN:VEVENT
DTSTART;TZID=America/Chicago:20210403T080000
DTEND;TZID=America/Chicago:20210403T090000
DTSTAMP:20260420T144850
CREATED:20210328T005205Z
LAST-MODIFIED:20210831T172222Z
UID:441-1617436800-1617440400@harvestcommunitygarden.org
SUMMARY:Harvest Time
DESCRIPTION:Everyone is invited to join us on Saturday mornings at 8:00 a.m. \nWe harvest produce\, weed gardens\, keep up the walkways\, share gardening tips\, and enjoy working in the garden together. \nGarden members take turns being assigned harvest duty \nHarvest duties include: picking ripe produce\, cleaning and bagging it\, and delivering it to a local food bank. \nQuestions? Contact Stan at Grow@HarvestCommunityGarden.org.
URL:https://harvestcommunitygarden.org/event/harvest-time/
ATTACH;FMTTYPE=image/jpeg:https://harvestcommunitygarden.org/wp-content/uploads/2020/12/HCG-harvest-300.jpg
END:VEVENT
BEGIN:VEVENT
DTSTART;TZID=America/Chicago:20210327T080000
DTEND;TZID=America/Chicago:20210327T090000
DTSTAMP:20260420T144850
CREATED:20210323T043544Z
LAST-MODIFIED:20210323T043558Z
UID:418-1616832000-1616835600@harvestcommunitygarden.org
SUMMARY:2021 Harvests Begin!
DESCRIPTION:We begin our scheduled harvests for 2021 on Saturday\, March 27!  While we encourage all gardeners to come on Saturday mornings\, we will assign specific gardeners to work each week on a rotating basis.  S0 gardeners\, watch for the weekly email and schedule from Steven. \nPlease tell the harvest team if you have specific directions for a particular plant or if there is something  you do not want harvested. \nPlease harvest the crops you want to keep (your half) before Saturday morning\, because if is ripe\, we will pick it. \nThe harvest team will bag the produce\, weigh it\, and deliver it to a local food pantry\, Metrocrest Services.
URL:https://harvestcommunitygarden.org/event/2021-harvests-begin/
END:VEVENT
BEGIN:VEVENT
DTSTART;TZID=America/Chicago:20210123T130000
DTEND;TZID=America/Chicago:20210123T140000
DTSTAMP:20260420T144850
CREATED:20201231T221427Z
LAST-MODIFIED:20210117T164703Z
UID:335-1611406800-1611410400@harvestcommunitygarden.org
SUMMARY:2021 Informational Garden Meeting
DESCRIPTION:Join us at the garden at 1 p.m. on Saturday\, January 23\, 2021 \nLearn about Harvest Community Garden and take a tour \nLearn about organic gardening and meet other gardeners \nSign up to adopt a plot for 2021 \nVolunteer
URL:https://harvestcommunitygarden.org/event/2021-informational-garden-meeting/
ATTACH;FMTTYPE=image/jpeg:https://harvestcommunitygarden.org/wp-content/uploads/2020/12/HCG-harvest-300.jpg
END:VEVENT
BEGIN:VEVENT
DTSTART;TZID=America/Chicago:20210123T080000
DTEND;TZID=America/Chicago:20210123T090000
DTSTAMP:20260420T144850
CREATED:20210117T160122Z
LAST-MODIFIED:20210831T170847Z
UID:341-1611388800-1611392400@harvestcommunitygarden.org
SUMMARY:Saturday Morning Harvests
DESCRIPTION:Join us Saturday mornings for our harvests. \nEveryone is welcome. \nLearn about the garden\, meet some of the gardeners\, or volunteer to help.
URL:https://harvestcommunitygarden.org/event/saturday-morning-harvests/
END:VEVENT
BEGIN:VEVENT
DTSTART;TZID=America/Chicago:20200125T090000
DTEND;TZID=America/Chicago:20200125T100000
DTSTAMP:20260420T144850
CREATED:20200221T211449Z
LAST-MODIFIED:20200221T211449Z
UID:329-1579942800-1579946400@harvestcommunitygarden.org
SUMMARY:Havest Community Garden Meeting
DESCRIPTION:Learn about the Garden\, sign up for a plot in 2020\, and meet other gardeners.
URL:https://harvestcommunitygarden.org/event/havest-community-garden-meeting/
ATTACH;FMTTYPE=image/jpeg:https://harvestcommunitygarden.org/wp-content/uploads/2020/02/IMG_6156-Copy.jpg
END:VEVENT
BEGIN:VEVENT
DTSTART;TZID=America/Chicago:20190316T080000
DTEND;TZID=America/Chicago:20190316T110000
DTSTAMP:20260420T144850
CREATED:20190315T223538Z
LAST-MODIFIED:20190315T223538Z
UID:309-1552723200-1552734000@harvestcommunitygarden.org
SUMMARY:Building Phase 2
DESCRIPTION:Weather permitting\, we will be working Saturdays this spring to build another 12 garden plots! \nJoin us Saturdays beginning 8:00 or 8:30 a.m. \nContact Stan at grow@harvestcommunitygarden.org for details.
URL:https://harvestcommunitygarden.org/event/building-phase-2/
ATTACH;FMTTYPE=image/jpeg:https://harvestcommunitygarden.org/wp-content/uploads/2019/03/IMG_5963-e1552698592311.jpg
END:VEVENT
BEGIN:VEVENT
DTSTART;TZID=America/Chicago:20181201T083000
DTEND;TZID=America/Chicago:20181201T120000
DTSTAMP:20260420T144850
CREATED:20181128T042612Z
LAST-MODIFIED:20181128T045047Z
UID:299-1543653000-1543665600@harvestcommunitygarden.org
SUMMARY:Work Day
DESCRIPTION:Come help us get ready for phase 2 building. \n\nRemove blackberry plants\nWeed walkways\nClean up existing gardens\nWork on the flower garden
URL:https://harvestcommunitygarden.org/event/work-day/
END:VEVENT
BEGIN:VEVENT
DTSTART;TZID=America/Chicago:20180630T080000
DTEND;TZID=America/Chicago:20180630T090000
DTSTAMP:20260420T144850
CREATED:20180617T011612Z
LAST-MODIFIED:20180617T011723Z
UID:296-1530345600-1530349200@harvestcommunitygarden.org
SUMMARY:Harvest Workers
DESCRIPTION:Harvest workers are Stan\, Maureen\, & Kim.  Everyone is welcome to come join us!
URL:https://harvestcommunitygarden.org/event/harvest-workers/
END:VEVENT
BEGIN:VEVENT
DTSTART;TZID=America/Chicago:20180623T080000
DTEND;TZID=America/Chicago:20180623T090000
DTSTAMP:20260420T144850
CREATED:20180617T010705Z
LAST-MODIFIED:20180617T011328Z
UID:295-1529740800-1529744400@harvestcommunitygarden.org
SUMMARY:Harvest Workers
DESCRIPTION:This week’s workers are Linda\, Kathy\, and Lyn. Everyone is welcome to join us for the harvest!
URL:https://harvestcommunitygarden.org/event/harvest-workers-for-6-23/
END:VEVENT
BEGIN:VEVENT
DTSTART;TZID=America/Chicago:20180609T080000
DTEND;TZID=America/Chicago:20180609T090000
DTSTAMP:20260420T144850
CREATED:20180608T155030Z
LAST-MODIFIED:20180608T155105Z
UID:293-1528531200-1528534800@harvestcommunitygarden.org
SUMMARY:Harvest Crew
DESCRIPTION:This week’s harvest crew is led by Lori\, Steven\, and Kim. \nCome give us a hand…Everyone is welcome!
URL:https://harvestcommunitygarden.org/event/harvest-crew/
END:VEVENT
BEGIN:VEVENT
DTSTART;TZID=America/Chicago:20180602T080000
DTEND;TZID=America/Chicago:20180602T093000
DTSTAMP:20260420T144850
CREATED:20180529T200302Z
LAST-MODIFIED:20180529T200302Z
UID:288-1527926400-1527931800@harvestcommunitygarden.org
SUMMARY:Harvest
DESCRIPTION:Everyone is welcome!  Come see what’s growing\, help us harvest\, help with garden upkeep\, or just say hello! \nHarvest this week is led by Lori Vriend. Lyn Hall and Maureen Mader are scheduled as helpers.
URL:https://harvestcommunitygarden.org/event/harvest/
END:VEVENT
BEGIN:VEVENT
DTSTART;VALUE=DATE:20180320
DTEND;VALUE=DATE:20180321
DTSTAMP:20260420T144850
CREATED:20171127T193938Z
LAST-MODIFIED:20171127T193938Z
UID:122-1521504000-1521590399@harvestcommunitygarden.org
SUMMARY:First Day of Spring
DESCRIPTION:
URL:https://harvestcommunitygarden.org/event/first-day-of-spring/
ATTACH;FMTTYPE=image/jpeg:https://harvestcommunitygarden.org/wp-content/uploads/2017/11/produce.jpg
END:VEVENT
BEGIN:VEVENT
DTSTART;TZID=America/Chicago:20180217T090000
DTEND;TZID=America/Chicago:20180217T220000
DTSTAMP:20260420T144850
CREATED:20180208T190047Z
LAST-MODIFIED:20180208T193155Z
UID:279-1518858000-1518904800@harvestcommunitygarden.org
SUMMARY:2018 Gardener Meeting
DESCRIPTION:Harvest Community Garden is in the process of signing up people to adopt a plot (or half plot) for 2018. \nLearn more at our meeting:\nSaturday\, February 17\, 9:00 a.m. \nRedeemer Covenant Church\n1518 E. Frankford Road\nCarrollton\, TX 75007 \ngrow@HarvestCommunityGarden.org
URL:https://harvestcommunitygarden.org/event/2018-gardener-meeting/
LOCATION:Redeemer Covenant Church\, 1518 E. Frankford Road\, Carrollton\, TX\, 75007\, United States
ATTACH;FMTTYPE=image/png:https://harvestcommunitygarden.org/wp-content/uploads/2018/02/feb17meeting.png
END:VEVENT
BEGIN:VEVENT
DTSTART;VALUE=DATE:20180101
DTEND;VALUE=DATE:20180102
DTSTAMP:20260420T144850
CREATED:20171127T193818Z
LAST-MODIFIED:20220803T153434Z
UID:119-1514764800-1514851199@harvestcommunitygarden.org
SUMMARY:Happy New Year
DESCRIPTION:Join us for Harvest Time every Saturday at 8:00 a.m.
URL:https://harvestcommunitygarden.org/event/happy-new-year/
END:VEVENT
BEGIN:VEVENT
DTSTART;VALUE=DATE:20171225
DTEND;VALUE=DATE:20171226
DTSTAMP:20260420T144850
CREATED:20171127T173147Z
LAST-MODIFIED:20171127T173147Z
UID:54-1514160000-1514246399@harvestcommunitygarden.org
SUMMARY:Merry Christmas
DESCRIPTION:
URL:https://harvestcommunitygarden.org/event/merry-christmas/
ATTACH;FMTTYPE=image/jpeg:https://harvestcommunitygarden.org/wp-content/uploads/2017/11/merry-christmas.jpg
END:VEVENT
BEGIN:VEVENT
DTSTART;TZID=America/Chicago:20171202T080000
DTEND;TZID=America/Chicago:20171202T090000
DTSTAMP:20260420T144850
CREATED:20171127T172225Z
LAST-MODIFIED:20190315T170409Z
UID:37-1512201600-1512205200@harvestcommunitygarden.org
SUMMARY:Come Visit Us
DESCRIPTION:Community members of all ages are invited to visit\, relax and build friendships\, adopt a plot\, help with harvests\, care for the flower beds or berries\, and learn organic gardening. \nSaturdays at 8:30 a.m.
URL:https://harvestcommunitygarden.org/event/open-to-the-public/
ATTACH;FMTTYPE=image/jpeg:https://harvestcommunitygarden.org/wp-content/uploads/2017/11/harvest-community-garden-2.jpg
END:VEVENT
END:VCALENDAR