BEGIN:VCALENDAR
VERSION:2.0
PRODID:-//Harvest Community Garden | Carrollton, TX - ECPv6.7.0//NONSGML v1.0//EN
CALSCALE:GREGORIAN
METHOD:PUBLISH
X-WR-CALNAME:Harvest Community Garden | Carrollton, TX
X-ORIGINAL-URL:https://harvestcommunitygarden.org
X-WR-CALDESC:Events for Harvest Community Garden | Carrollton, TX
REFRESH-INTERVAL;VALUE=DURATION:PT1H
X-Robots-Tag:noindex
X-PUBLISHED-TTL:PT1H
BEGIN:VTIMEZONE
TZID:America/Chicago
BEGIN:DAYLIGHT
TZOFFSETFROM:-0600
TZOFFSETTO:-0500
TZNAME:CDT
DTSTART:20260308T080000
END:DAYLIGHT
BEGIN:STANDARD
TZOFFSETFROM:-0500
TZOFFSETTO:-0600
TZNAME:CST
DTSTART:20261101T070000
END:STANDARD
END:VTIMEZONE
BEGIN:VEVENT
DTSTART;TZID=America/Chicago:20260113T173000
DTEND;TZID=America/Chicago:20260113T183000
DTSTAMP:20260422T052302
CREATED:20251222T195843Z
LAST-MODIFIED:20251222T200013Z
UID:661-1768325400-1768329000@harvestcommunitygarden.org
SUMMARY:HCG Board Meeting
DESCRIPTION:The Harvest Community Board will hold their first planning meeting of the year. \nContact Stan for details.
URL:https://harvestcommunitygarden.org/event/hcg-board-meeting-2/
LOCATION:Redeemer Covenant Church\, 1518 E. Frankford Road\, Carrollton\, TX\, 75007\, United States
END:VEVENT
BEGIN:VEVENT
DTSTART;TZID=America/Chicago:20260117T090000
DTEND;TZID=America/Chicago:20260117T100000
DTSTAMP:20260422T052302
CREATED:20251222T194725Z
LAST-MODIFIED:20260116T233938Z
UID:659-1768640400-1768644000@harvestcommunitygarden.org
SUMMARY:2026 Annual Meeting and Open House
DESCRIPTION:JOIN THE COMMUNITY! \nSaturday\, January 17th at 9 a.m. \nSign up for a 4’ x 20’ plot for a year for only $40 (1/2 plot for $20) \nWho: All new\, returning\, and prospective gardeners \nWhat: Our Annual Garden Meeting\, Orientation\, and Open House \nWhen: Saturday\, January 17th at 9:00 a.m. \nWhere: Redeemer Church (1518 E. Frankford Rd\, Carrollton 75007) \nWhy: Learn about Harvest Community Garden\, adopt a plot for the year\, and meet some wonderful people! \nBring: $40 cash or check\, if you want to adopt a 4′ x 20′ garden plot for the year. $20 for a half plot.
URL:https://harvestcommunitygarden.org/event/2026-annual-meeting-and-open-house/
LOCATION:Redeemer Covenant Church\, 1518 E. Frankford Road\, Carrollton\, TX\, 75007\, United States
END:VEVENT
END:VCALENDAR